 BEGIN:VCALENDAR
VERSION:2.0
PRODID:-//eventon.com NONSGML v1.0//EN
CALSCALE:GREGORIAN
METHOD:PUBLISH
BEGIN:VEVENT
UID:69e8911278289
DTSTAMP:20260422T091250Z
DTSTART:20240505T100000Z
DTEND:20240505T150000Z
LOCATION:
SUMMARY:Kultur- und Ehrenamtsmesse
DESCRIPTION:Wir sind nicht Veranstalter der Kultur- und Ehrenamtsmesse. Die
  aufgeführten Vereine sind nur Teilnehmer.\nhttps://www.kulturkombinatelms
 horn.de/veranstaltungen/kultur-und-ehrenamtsmesse/
URL:https://www.kulturkombinatelmshorn.de/veranstaltungen/kultur-und-ehrenamtsmesse/
END:VEVENT
END:VCALENDAR