 BEGIN:VCALENDAR
VERSION:2.0
PRODID:-//eventon.com NONSGML v1.0//EN
CALSCALE:GREGORIAN
METHOD:PUBLISH
BEGIN:VEVENT
UID:69e5d53a20b25
DTSTAMP:20260420T072650Z
DTSTART:20240914T170000Z
DTEND:20240914T215900Z
LOCATION:Kranhaus Schloßstraße 8\,  25336 Elmshorn
SUMMARY:Was uns gefällt und Bluesliner
DESCRIPTION:Von klassischem Chicago Style Blues über R&#038;B bis zu jazzi
 gen Nummern &#8222;Was uns gefällt&#8220; In der aktuellen Formation gibt 
 es uns seit 2019 und wir covern akustisch Rock\,  Pop und Folk mit Westerng
 itarren\,  Bass\,  Cajon und Gesang. Wir probieren immer mal wieder etwas N
 eues. Dieter Kiupel – Westerngitarre und Gesang.[..]\nhttps://www.kulturk
 ombinatelmshorn.de/veranstaltungen/was-uns-gefaellt-und-bluesliner/
URL:https://www.kulturkombinatelmshorn.de/veranstaltungen/was-uns-gefaellt-und-bluesliner/
END:VEVENT
END:VCALENDAR