 BEGIN:VCALENDAR
VERSION:2.0
PRODID:-//eventon.com NONSGML v1.0//EN
CALSCALE:GREGORIAN
METHOD:PUBLISH
BEGIN:VEVENT
UID:69e63d675c4b3
DTSTAMP:20260420T145119Z
DTSTART:20241030T200000Z
DTEND:20241030T225900Z
LOCATION:MS Klostersande Südufer\,  25336 Elmshorn
SUMMARY:Nightmare in Elmshorn 2024 (ausverkauft)
DESCRIPTION:Hier geht es zur Halloween-Veranstaltung 2025: Nightmare in Elm
 shorn 2025 2024 war ausgebucht: Vielen Dank für eure zahlreichen Reservier
 ungen! Die Halloweenparty ist nun ausverkauft und wir freuen uns darauf\,  
 euch am 30.10. zu sehen. Bereit für ein Revival der ersten großen Apollo 
 Party? Wir lassen die (schwarze) Katze aus dem[..]\nhttps://www.kulturkombi
 natelmshorn.de/veranstaltungen/nightmare-in-elmshorn/
URL:https://www.kulturkombinatelmshorn.de/veranstaltungen/nightmare-in-elmshorn/
END:VEVENT
END:VCALENDAR