 BEGIN:VCALENDAR
VERSION:2.0
PRODID:-//eventon.com NONSGML v1.0//EN
CALSCALE:GREGORIAN
METHOD:PUBLISH
BEGIN:VEVENT
UID:69e8c9ba7ee89
DTSTAMP:20260422T131434Z
DTSTART:20241205T173000Z
DTEND:20241205T225900Z
LOCATION:St. Nikolai-Kirche zu Elmshorn Kirchenstraße 5\,  25335 Elmshorn
SUMMARY:WSE Weihnachtssingen
DESCRIPTION:Elmshorn\,  11.2024 – die Vorfreude auf Weihnachten wächst\,
   und in diesem Jahr gibt es einen ganz besonderen Grund zum Feiern! Die In
 itiatoren des Stadtblogs »WIR SIND ELMSHORN« laden alle Menschen aus der 
 Stadt und Umgebung zum »WSE Weihnachtssingen – das interaktive Charity-K
 onzert« am 05.12.2024 um 18:30 Uhr herzlich in die[..]\nhttps://www.kultur
 kombinatelmshorn.de/veranstaltungen/wse-weihnachtssingen/
URL:https://www.kulturkombinatelmshorn.de/veranstaltungen/wse-weihnachtssingen/
END:VEVENT
END:VCALENDAR