 BEGIN:VCALENDAR
VERSION:2.0
PRODID:-//eventon.com NONSGML v1.0//EN
CALSCALE:GREGORIAN
METHOD:PUBLISH
BEGIN:VEVENT
UID:69e89061caa49
DTSTAMP:20260422T090953Z
DTSTART:20251213
DTEND:20251214
LOCATION:MS Klostersande Südufer\,  25336 Elmshorn
SUMMARY:Weihnachtsbasar
DESCRIPTION:An 10 Ständen im &#8222;Bauch&#8220; des Getreidefrachters MS 
 Klostersande gibt es an beiden Tagen jeweils von 10 bis 17 Uhr Holzarbeiten
  Teelichter\,  Tannenbäume\,  Briefkasten\,  Figuren Taschen verschiedener
  Art\, auch mit Sprüchen versehen Geschenke\,  Gipsarbeiten\,  Kerzen\,  S
 prüche Kirschkernkissen\,  verschied. Formen\,  Körnerkissen\,  genähte 
 Sachen\,  Kindersachen Kinderspielzeug aus Holz: Trecker Holzarbeiten\,  St
 erne\,  Vogelhäuser Gestickte[..]\nhttps://www.kulturkombinatelmshorn.de/v
 eranstaltungen/weihnachtsbasar-2/
URL:https://www.kulturkombinatelmshorn.de/veranstaltungen/weihnachtsbasar-2/
END:VEVENT
END:VCALENDAR