 BEGIN:VCALENDAR
VERSION:2.0
PRODID:-//eventon.com NONSGML v1.0//EN
CALSCALE:GREGORIAN
METHOD:PUBLISH
BEGIN:VEVENT
UID:69e77cbabfac1
DTSTAMP:20260421T133346Z
DTSTART:20260327T170000Z
DTEND:20260327T225900Z
LOCATION:MS Klostersande Sรผdufer\,  25336 Elmshorn
SUMMARY:Genuss Ahoi!
DESCRIPTION:โ๐๐ฒ๐ป๐๐๐ ๐๐ต๐ผ๐ถ!โ auf dem ehemal
 igen Getreidefrachter von Peter Kรถlln\,  einem echten Stรผck Elmshorner Ge
 schichte. Die perfekte Location\,  um Craft Beer-Kultur zu feiern! ๐ ๐
 ๐ฟ๐ฒ๐๐ ๐ฒ๐๐ฐ๐ต ๐ฎ๐๐ณ: โ๏ธ Biere aus der Regio
 n und der ganzen Welt โ๏ธ Simian Ales frisch vom Fass โ๏ธ Treffpunkt 
 fรผr Hobbybrauer โ๏ธ Bierverkostungen &amp; Aktionen Kommt[..]\nhttps://
 www.kulturkombinatelmshorn.de/veranstaltungen/genuss-ahoi/
URL:https://www.kulturkombinatelmshorn.de/veranstaltungen/genuss-ahoi/
END:VEVENT
END:VCALENDAR