 BEGIN:VCALENDAR
VERSION:2.0
PRODID:-//eventon.com NONSGML v1.0//EN
CALSCALE:GREGORIAN
METHOD:PUBLISH
BEGIN:VEVENT
UID:69e63e90cd198
DTSTAMP:20260420T145616Z
DTSTART:20250919T180000Z
DTEND:20250919T215900Z
LOCATION:Kranhaus Schloßstraße 8\,  25336 Elmshorn
SUMMARY:Brickhouse Blues Band
DESCRIPTION:Die Brickhouse Blues Band\,  das ist ehrlicher und handgemachte
 r Blues und Soul\,  der auf höchst authentische und innovative Weise von v
 ier musikbegeisterten Herren als erfahrenes Ensemble in stets professionell
 er wie mitreißender Form virtuos dargeboten wird. Alias Christian “Dr. B
 lues“ Strunge (Gitarre)\,  Herbie “The Harp“ Behrens (Gesang und Mund
 harmonika)\,  Johannes „Funky[..]\nhttps://www.kulturkombinatelmshorn.de/
 veranstaltungen/brickhouse-blues-band/
URL:https://www.kulturkombinatelmshorn.de/veranstaltungen/brickhouse-blues-band/
END:VEVENT
END:VCALENDAR