 BEGIN:VCALENDAR
VERSION:2.0
PRODID:-//eventon.com NONSGML v1.0//EN
CALSCALE:GREGORIAN
METHOD:PUBLISH
BEGIN:VEVENT
UID:69e9f95814df0
DTSTAMP:20260423T105000Z
DTSTART:20250411T180000Z
DTEND:20250411T215900Z
LOCATION:Kranhaus Schloßstraße 8\,  25336 Elmshorn
SUMMARY:Matthias Weber
DESCRIPTION:Kann eine Gitarre klagen\,  jammern\,  schluchzen\,  weinen? Ka
 nn sie jubeln\,  jauchzen\,  lachen\,  fröhlich sein? Ja\,  sie kann – j
 edenfalls dann\,  wenn der Hamburger Künstler Matthias Weber mit virtuosem
  Gitarrenspiel und brilliantem Gesang seine bisher einzigartige Bluesrevue 
 vorstellt. Beginn 20:00 Uhr\,  Einlass ab 19:00 Uhr Der Eintritt ist frei. 
 Wir belohnen[..]\nhttps://www.kulturkombinatelmshorn.de/veranstaltungen/mat
 thias-weber/
URL:https://www.kulturkombinatelmshorn.de/veranstaltungen/matthias-weber/
END:VEVENT
END:VCALENDAR