 BEGIN:VCALENDAR
VERSION:2.0
PRODID:-//eventon.com NONSGML v1.0//EN
CALSCALE:GREGORIAN
METHOD:PUBLISH
BEGIN:VEVENT
UID:69e8915bee8a6
DTSTAMP:20260422T091403Z
DTSTART:20250720T130000Z
DTEND:20250720T215900Z
LOCATION:Kultur im Roten Pavillon Agnes-Karll-Allee 2\,  25337 Elmshorn
SUMMARY:Songraes
DESCRIPTION:Songraes sind eine dreiköpfige Alternative-Folk-Band aus Hambu
 rg. Sie betrachten ihre Musik als ihre persönliche Sicht auf altbewährtes
  Songwriting. Die Band besteht aus Hannes Klock (Gitarre/Gesang)\,  ehemals
  Mitglied von „Acadian Post“\,  Anja McCloskey (Klavier/Akkordeon/Gesan
 g)\,  Mitglied der bekannten britischen Band „The Irrepressibles“ und d
 em schottischen Frontmann und preisgekröntem Filmemacher Leo Bruges (Gesan
 g).[..]\nhttps://www.kulturkombinatelmshorn.de/veranstaltungen/songraes/
URL:https://www.kulturkombinatelmshorn.de/veranstaltungen/songraes/
END:VEVENT
END:VCALENDAR