 BEGIN:VCALENDAR
VERSION:2.0
PRODID:-//eventon.com NONSGML v1.0//EN
CALSCALE:GREGORIAN
METHOD:PUBLISH
BEGIN:VEVENT
UID:69e89156ec6a0
DTSTAMP:20260422T091358Z
DTSTART:20250516
DTEND:20250517
LOCATION:Jugendhaus Krückaupark
SUMMARY:Skate Days
DESCRIPTION:16. Mai 2025 Beginn 16 Uhr | für Jugendliche ab 13 bis 27 Jahr
 e 17. Mai 2025 Beginn 11 Uhr | für Kinder ab 6 bis 12 Jahre 11 &#8211; 13 
 Uhr nur für Mädchen ab 13 Uhr für alle Kinder von 6 bis 12 Jahren Kinder
 - und Jugendhaus Krückaupark[..]\nhttps://www.kulturkombinatelmshorn.de/ve
 ranstaltungen/skate-days/
URL:https://www.kulturkombinatelmshorn.de/veranstaltungen/skate-days/
END:VEVENT
END:VCALENDAR