 BEGIN:VCALENDAR
VERSION:2.0
PRODID:-//eventon.com NONSGML v1.0//EN
CALSCALE:GREGORIAN
METHOD:PUBLISH
BEGIN:VEVENT
UID:69e8a85765a08
DTSTAMP:20260422T105207Z
DTSTART:20250416
DTEND:20250417
LOCATION:
SUMMARY:Metallkunst mobil
DESCRIPTION:Ein Landkreis\,  20 Workshoptage: Mit unserem Projekt Metallkun
 st mobil touren wir durch den Kreis Pinneberg und bieten in Kooperation mit
  Jugendzentren vor Ort kostenlose Workshops zum Thema Metallkunst und Kunst
 schweißen für Kids an. Finanziert wird das Ganze von der Peter-Jensen-Sti
 ftung\nhttps://www.kulturkombinatelmshorn.de/veranstaltungen/metallkunst-mo
 bil/
URL:https://www.kulturkombinatelmshorn.de/veranstaltungen/metallkunst-mobil/
END:VEVENT
END:VCALENDAR