 BEGIN:VCALENDAR
VERSION:2.0
PRODID:-//eventon.com NONSGML v1.0//EN
CALSCALE:GREGORIAN
METHOD:PUBLISH
BEGIN:VEVENT
UID:69e9ed11c7cf3
DTSTAMP:20260423T095737Z
DTSTART:20250912T170000Z
DTEND:20250912T215900Z
LOCATION:Kranhaus Schloßstraße 8\,  25336 Elmshorn
SUMMARY:PVC - Peter und Volker Connection
DESCRIPTION:Sie können es nicht lassen! Seit über zwanzig Jahren spielen 
 Peter Wulff-Thießen und Volker Heitmann in verschiedenen Formationen zusam
 men. Peter\,  Preisträger beim NDR-Hörfest\,  dessen Spiel die Hannoversc
 he Allgemeine Zeitung als „Eintauchen in eine musikalische Traumwelt“ b
 ezeichnete und dessen Konzerte schon in einigen europäischen Ländern zu b
 ewundern waren und Volker\,  ein[..]\nhttps://www.kulturkombinatelmshorn.de
 /veranstaltungen/pvc/
URL:https://www.kulturkombinatelmshorn.de/veranstaltungen/pvc/
END:VEVENT
END:VCALENDAR