 BEGIN:VCALENDAR
VERSION:2.0
PRODID:-//eventon.com NONSGML v1.0//EN
CALSCALE:GREGORIAN
METHOD:PUBLISH
BEGIN:VEVENT
UID:69e8a6bd56a54
DTSTAMP:20260422T104517Z
DTSTART:20250926T173000Z
DTEND:20250926T215900Z
LOCATION:MS Klostersande Südufer\,  25336 Elmshorn
SUMMARY:Max Goldt liest
DESCRIPTION:Wir freuen uns\,  Max Goldt wieder an Bord der MS Klostersande 
 zu begrüßen. Pünktlich zur Veröffentlichung seines neuen Buches „Aber
 ?“ (August 2025) liest Goldt neue Texte und ausgewählte Klassiker – po
 intiert\,  sprachpräzise\,  humorvoll. 2023 war die Lesung ausverkauft. Pl
 ätze sind begrenzt. Ein Abend mit Max Goldt ist kein Klamauk und[..]\nhttp
 s://www.kulturkombinatelmshorn.de/veranstaltungen/max-goldt-liest/
URL:https://www.kulturkombinatelmshorn.de/veranstaltungen/max-goldt-liest/
END:VEVENT
END:VCALENDAR