 BEGIN:VCALENDAR
VERSION:2.0
PRODID:-//eventon.com NONSGML v1.0//EN
CALSCALE:GREGORIAN
METHOD:PUBLISH
BEGIN:VEVENT
UID:69e890d3790c3
DTSTAMP:20260422T091147Z
DTSTART:20250508T160000Z
DTEND:20250508T215900Z
LOCATION:Erich Kästner Gemeinschaftsschule Hainholzer Damm 15\,  25337 Elmshorn
SUMMARY:Maikäfer flieg!
DESCRIPTION:Der 8. Mai 1945 markiert nach der bedingungslosen Kapitulation 
 der deutschen Wehrmacht das Ende des Zweiten Weltkrieges in Europa. Zugleic
 h endete an diesem Tag die nationalsozialistische Diktatur in Deutschland. 
 Heute wird dieser Tag in vielen europäischen Ländern als Gedenktag oder F
 eiertag begangen. Aus diesem Anlass richtet die Stadt Elmshorn am[..]\nhttp
 s://www.kulturkombinatelmshorn.de/veranstaltungen/maikaefer-flieg/
URL:https://www.kulturkombinatelmshorn.de/veranstaltungen/maikaefer-flieg/
END:VEVENT
END:VCALENDAR