 BEGIN:VCALENDAR
VERSION:2.0
PRODID:-//eventon.com NONSGML v1.0//EN
CALSCALE:GREGORIAN
METHOD:PUBLISH
BEGIN:VEVENT
UID:69e890d36cd64
DTSTAMP:20260422T091147Z
DTSTART:20250508T163000Z
DTEND:20250508T215900Z
LOCATION:Stadtbücherei Elmshorn Königstraße 56\,  25335 Elmshorn
SUMMARY:Vortrag über die Literaturnobelpreis-Trägerin Annie Ernaux
DESCRIPTION:Annie Ernaux war bis vor kurzem dem deutschen Publikum kaum bek
 annt. Seitdem ihr im Herbst 2022 als erster französischer Schriftstellerin
  der Nobelpreis für Literatur verliehen worden war\,  ist die Auflage ihre
 r Bücher auf fast eine Million verkaufter Exemplare in der Welt angestiege
 n. Ihr Werk ist überwiegend autobiografisch und befasst sich[..]\nhttps://
 www.kulturkombinatelmshorn.de/veranstaltungen/vortrag-ueber-die-literaturno
 belpreis-traegerin-annie-ernaux/
URL:https://www.kulturkombinatelmshorn.de/veranstaltungen/vortrag-ueber-die-literaturnobelpreis-traegerin-annie-ernaux/
END:VEVENT
END:VCALENDAR