 BEGIN:VCALENDAR
VERSION:2.0
PRODID:-//eventon.com NONSGML v1.0//EN
CALSCALE:GREGORIAN
METHOD:PUBLISH
BEGIN:VEVENT
UID:69e8909a1cea0
DTSTAMP:20260422T091050Z
DTSTART:20250604T130000Z
DTEND:20250604T143000Z
LOCATION:Grundschule Kaltenweide Amandastr. 42\,  25335 Elmshorn
SUMMARY:Spieliothek-mobil
DESCRIPTION:Einmal pro Monat ist die Spieliothek-mobil in der Grundschule K
 altenweide von 15:00 bis 16:30 Uhr zu Gast und verleiht kostenlos Spiele. M
 ehr Informationen zur Spieliothek-mobil erhalten Sie hier.\nhttps://www.kul
 turkombinatelmshorn.de/veranstaltungen/spieliothek-mobil-grundschule-kalten
 weide/
URL:https://www.kulturkombinatelmshorn.de/veranstaltungen/spieliothek-mobil-grundschule-kaltenweide/
END:VEVENT
END:VCALENDAR