 BEGIN:VCALENDAR
VERSION:2.0
PRODID:-//eventon.com NONSGML v1.0//EN
CALSCALE:GREGORIAN
METHOD:PUBLISH
BEGIN:VEVENT
UID:69e8a8841fbe4
DTSTAMP:20260422T105252Z
DTSTART:20250529T163000Z
DTEND:20250529T215900Z
LOCATION:Industriemuseum Elmshorn Catharinenstraße 1\,  25335 Elmshorn
SUMMARY:Abendvortrag des Rosenexperten Thomas Proll
DESCRIPTION:Rosenzüchtungsleiter von W. Kordes’ Söhne zu Gast im Indust
 riemuseum Im Rahmen der Sonderausstellung „Wie riecht Elmshorn? Stadt an 
 der Krückau – Wundertüte der Gerüche“ veranstaltet das Industriemuse
 um einen besonderen Abendvortrag: Der renommierte Rosenzüchter Thomas Prol
 l\,  seit 1996 Züchtungsleiter bei W. Kordes’ Söhne\,  wird sein enorme
 s Wissen über die edelste aller[..]\nhttps://www.kulturkombinatelmshorn.de
 /veranstaltungen/abendvortrag-des-rosenexperten-thomas-proll/
URL:https://www.kulturkombinatelmshorn.de/veranstaltungen/abendvortrag-des-rosenexperten-thomas-proll/
END:VEVENT
END:VCALENDAR