 BEGIN:VCALENDAR
VERSION:2.0
PRODID:-//eventon.com NONSGML v1.0//EN
CALSCALE:GREGORIAN
METHOD:PUBLISH
BEGIN:VEVENT
UID:69e89061cb143
DTSTAMP:20260422T090953Z
DTSTART:20251104T143000Z
DTEND:20251104T225900Z
LOCATION:Haus der Begegnung Hainholzer Damm 11\,  25337 Elmshorn
SUMMARY:Elmomucke
DESCRIPTION:Offene Musikwerkstatt für Kids und Jugendliche im Haus der Beg
 egnung Hainholzer Damm 11\,  Elmshorn. Kostenlos und ohne Anmeldung könnt 
 ihr bei uns Instrumente wie Schlagzeug\,  E-Gitarre\,  Bass\,  Klavier\,  P
 ercussion\,  Gesang und vor Allem das Zusammenspielen in einer Band ausprob
 ieren. Kommt einfach vorbei! Jeden Dienstag Nachmittag/Abend: 15:30 &#8211;
  16:10 Musikmachen für[..]\nhttps://www.kulturkombinatelmshorn.de/veransta
 ltungen/elmomucke-2025-q4/
URL:https://www.kulturkombinatelmshorn.de/veranstaltungen/elmomucke-2025-q4/
END:VEVENT
END:VCALENDAR