 BEGIN:VCALENDAR
VERSION:2.0
PRODID:-//eventon.com NONSGML v1.0//EN
CALSCALE:GREGORIAN
METHOD:PUBLISH
BEGIN:VEVENT
UID:69e8907aedded
DTSTAMP:20260422T091018Z
DTSTART:20251024T170000Z
DTEND:20251024T215900Z
LOCATION:St. Nikolai-Kirche zu Elmshorn Kirchenstraße 5\,  25335 Elmshorn
SUMMARY:Rum Ragged
DESCRIPTION:Rum Ragged (St. John’s\,  Neufundland / Kanada) Kanadischer F
 olk mit Herz\,  Witz und rauer Küstenbrise Mit Rum Ragged kommt eine der s
 pannendsten Folk-Bands Kanadas zum ersten Mal nach Elmshorn – direkt von 
 der Atlantikküste Neufundlands. Die vier Musiker sind tief verwurzelt in d
 er Kultur ihrer Heimat\,  die geprägt ist von[..]\nhttps://www.kulturkombi
 natelmshorn.de/veranstaltungen/rum-ragged/
URL:https://www.kulturkombinatelmshorn.de/veranstaltungen/rum-ragged/
END:VEVENT
END:VCALENDAR