 BEGIN:VCALENDAR
VERSION:2.0
PRODID:-//eventon.com NONSGML v1.0//EN
CALSCALE:GREGORIAN
METHOD:PUBLISH
BEGIN:VEVENT
UID:69e890f2bbde1
DTSTAMP:20260422T091218Z
DTSTART:20251207T170000Z
DTEND:20251207T225900Z
LOCATION:Ansgarkirche Ansgarstraße 54\,  25336 Elmshorn
SUMMARY:Kim Carnie
DESCRIPTION:Berührende Stimme\,  preisgekrönte Songs – und ein Hauch Hi
 ghlands Mit Kim Carnie kommt eine der spannendsten Stimmen der jungen schot
 tischen Musikszene nach Elmshorn – zum ersten Mal und endlich! Schon vor 
 Jahren bei einem Showcase in Glasgow hat sie mit ihrer intensiven Ausstrahl
 ung und ihrer außergewöhnlichen Stimme beeindruckt. Heute ist[..]\nhttps:
 //www.kulturkombinatelmshorn.de/veranstaltungen/kim-carnie/
URL:https://www.kulturkombinatelmshorn.de/veranstaltungen/kim-carnie/
END:VEVENT
END:VCALENDAR