 BEGIN:VCALENDAR
VERSION:2.0
PRODID:-//eventon.com NONSGML v1.0//EN
CALSCALE:GREGORIAN
METHOD:PUBLISH
BEGIN:VEVENT
UID:69e4f5b1ac31a
DTSTAMP:20260419T153305Z
DTSTART:20251124
DTEND:20251125
LOCATION:Alter Markt
SUMMARY:Elmshorner Lichtermarkt 2025
DESCRIPTION:Eröffnung Elmshorner Lichtermarkt Montag\,  24.11.2025\,  ab 1
 8:00 Uhr Elmshorner Engel Alle Advent Samstage und Sonntage von 14:00 Uhr b
 is 16:00 Uhr in der Innenstadt Adventliche Bläsermusik auf dem Lichtermark
 t Samstag 29.11. + Samstag\,  6.12.2025 von 15:30 Uhr bis 16:00 Uhr auf dem
  Alten Markt Weihnachtsparade Freitag\,  12.12.2025\,  ab 18:00 Uhr\, [..]\
 nhttps://www.kulturkombinatelmshorn.de/veranstaltungen/elmshorner-lichterma
 rkt-2025/
URL:https://www.kulturkombinatelmshorn.de/veranstaltungen/elmshorner-lichtermarkt-2025/
END:VEVENT
END:VCALENDAR