 BEGIN:VCALENDAR
VERSION:2.0
PRODID:-//eventon.com NONSGML v1.0//EN
CALSCALE:GREGORIAN
METHOD:PUBLISH
BEGIN:VEVENT
UID:69e89024f0ea2
DTSTAMP:20260422T090852Z
DTSTART:20251205T170000Z
DTEND:20251206T110000Z
LOCATION:Stadtbücherei Elmshorn Königstraße 56\,  25335 Elmshorn
SUMMARY:Kuscheltierübernachtung
DESCRIPTION:Erst wird gemeinsam ein Bilderbuchkino geschaut – dann über
 nachten die Kuscheltiere (ohne die Kinder) in der Bücherei und erleben sp
 annende Abenteuer. Für Kinder ab 4 Jahre und ihre Kuscheltiere Abholung d
 er Kuscheltiere 06.12.2025 | 9 – 12 Uhr Kosten | 2\, 00 € | Anmeldung a
 b 07.11.2025\nhttps://www.kulturkombinatelmshorn.de/veranstaltungen/kuschel
 tieruebernachtung/
URL:https://www.kulturkombinatelmshorn.de/veranstaltungen/kuscheltieruebernachtung/
END:VEVENT
END:VCALENDAR