 BEGIN:VCALENDAR
VERSION:2.0
PRODID:-//eventon.com NONSGML v1.0//EN
CALSCALE:GREGORIAN
METHOD:PUBLISH
BEGIN:VEVENT
UID:69e890e7a7b16
DTSTAMP:20260422T091207Z
DTSTART:20260114T150000Z
DTEND:20260114T225900Z
LOCATION:Stadtbücherei Elmshorn Königstraße 56\,  25335 Elmshorn
SUMMARY:Bilderbuchkino
DESCRIPTION:Jeden zweiten Mittwoch im Monat geht es auf Entdeckungsreise in
  die Welt der Bilder und Wörter. für Kinder von 3 bis 6 Jahren kostenlo
 s | keine Anmeldung erforderlich\nhttps://www.kulturkombinatelmshorn.de/ver
 anstaltungen/bilderbuchkino-2/
URL:https://www.kulturkombinatelmshorn.de/veranstaltungen/bilderbuchkino-2/
END:VEVENT
END:VCALENDAR