 BEGIN:VCALENDAR
VERSION:2.0
PRODID:-//eventon.com NONSGML v1.0//EN
CALSCALE:GREGORIAN
METHOD:PUBLISH
BEGIN:VEVENT
UID:69e89084b7a22
DTSTAMP:20260422T091028Z
DTSTART:20260110T180000Z
DTEND:20260110T225900Z
LOCATION:Haus 13 Adolfstrasse 13 - 25335 Elmshorn
SUMMARY:Randi TytingvÃ¤g Trio (NOR)
DESCRIPTION:Aus Stavanger an der norwegischen KÃ¼ste kommt das Randi Tyting
 vÃ¤g Trio â€“ mit feinen Arrangements\,  warmem Harmoniegesang und einer BÃ
 ¼hnenprÃ¤senz\,  die berÃ¼hrt. Randi TytingvÃ¤g\,  ausgebildet im Jazzgesan
 g in London und mit Erfahrung auf der TheaterbÃ¼hne\,  verbindet nordische 
 Volksmusik mit Elementen des Jazz â€“ mal verletzlich\,  mal hoffnungsvoll\
 ,  immer aufrichtig und[..]\nhttps://www.kulturkombinatelmshorn.de/veransta
 ltungen/randi-tytingvaeg-trio/
URL:https://www.kulturkombinatelmshorn.de/veranstaltungen/randi-tytingvaeg-trio/
END:VEVENT
END:VCALENDAR