 BEGIN:VCALENDAR
VERSION:2.0
PRODID:-//eventon.com NONSGML v1.0//EN
CALSCALE:GREGORIAN
METHOD:PUBLISH
BEGIN:VEVENT
UID:69e890d4a25ef
DTSTAMP:20260422T091148Z
DTSTART:20251206T180000Z
DTEND:20251206T225900Z
LOCATION:Lutherkirche Lange Str. 32\,  25337 Elmshorn
SUMMARY:Pop & Gospel Weihnacht
DESCRIPTION:Tuxedo Junction (vierstimmiger Popchor aus Elmshorn) und Open U
 p Wide (Gospelchor der Friedenskirchengemeinde) laden zu einem festlichen A
 dventsprogramm ein – mal besinnlich\,  mal voller Schwung\,  aber immer m
 it Herz. Samstag\,  06.12.2025 Lutherkirche Elmshorn\,  Lange Straße 32 Be
 ginn: 19:00 Uhr (Einlass: 18:30 Uhr) Freitag\,  19.12.2025 Christuskirche K
 iebitzreihe\,  Kirchenstraße 18 Beginn: 19:30[..]\nhttps://www.kulturkombi
 natelmshorn.de/veranstaltungen/pop-gospel-weihnacht/
URL:https://www.kulturkombinatelmshorn.de/veranstaltungen/pop-gospel-weihnacht/
END:VEVENT
END:VCALENDAR