 BEGIN:VCALENDAR
VERSION:2.0
PRODID:-//eventon.com NONSGML v1.0//EN
CALSCALE:GREGORIAN
METHOD:PUBLISH
BEGIN:VEVENT
UID:69e89085ec7eb
DTSTAMP:20260422T091029Z
DTSTART:20251116
DTEND:20251117
LOCATION:Industriemuseum Elmshorn Catharinenstraße 1\,  25335 Elmshorn
SUMMARY:Adventskalender aus über 100 Jahren
DESCRIPTION:Die Adventszeit rückt näher und gefühlt liegen schon seit Mo
 naten hunderte verschiedene Kalender in den Geschäften\,  um die Zeit bis 
 zum 24. Dezember zu verkürzen. Gefüllt sind diese mit Schokolade\,  Spiel
 zeug oder Parfüm. In den Anfängen dieses weihnachtlichen Brauchtums enthi
 elten die Kalender aber meist nur Bildmotive hinter den 24 Türchen.[..]\nh
 ttps://www.kulturkombinatelmshorn.de/veranstaltungen/adventskalender-aus-ue
 ber-100-jahren/
URL:https://www.kulturkombinatelmshorn.de/veranstaltungen/adventskalender-aus-ueber-100-jahren/
END:VEVENT
END:VCALENDAR