 BEGIN:VCALENDAR
VERSION:2.0
PRODID:-//eventon.com NONSGML v1.0//EN
CALSCALE:GREGORIAN
METHOD:PUBLISH
BEGIN:VEVENT
UID:69e9f9fed2014
DTSTAMP:20260423T105246Z
DTSTART:20260919T180000Z
DTEND:20260919T215900Z
LOCATION:MS Klostersande Südufer\,  25336 Elmshorn
SUMMARY:Billy & the Sideburnzz
DESCRIPTION:Eine gute Kombi: „Bier und Rock&#8217;n&#8217;Roll“ und Roc
 kabilly mit sattem Sound. Einlass: 19:00 Uhr/ Beginn: 20:00 Uhr Eintritt: V
 VK 10\, -/ AK 12\, - Euro\nhttps://www.kulturkombinatelmshorn.de/veranstalt
 ungen/billy-the-sideburnzz/
URL:https://www.kulturkombinatelmshorn.de/veranstaltungen/billy-the-sideburnzz/
END:VEVENT
END:VCALENDAR