 BEGIN:VCALENDAR
VERSION:2.0
PRODID:-//eventon.com NONSGML v1.0//EN
CALSCALE:GREGORIAN
METHOD:PUBLISH
BEGIN:VEVENT
UID:69e63ce2a6f7e
DTSTAMP:20260420T144906Z
DTSTART:20260529T180000Z
DTEND:20260529T215900Z
LOCATION:Kranhaus Schloßstraße 8\,  25336 Elmshorn
SUMMARY:Jazz 03
DESCRIPTION:tba. Der Eintritt ist frei. Kunst\,  Kultur und Kreativität ha
 t ihren Wert. Deshalb bitten wir um eine Hutspende.\nhttps://www.kulturkomb
 inatelmshorn.de/veranstaltungen/jazz-03/
URL:https://www.kulturkombinatelmshorn.de/veranstaltungen/jazz-03/
END:VEVENT
END:VCALENDAR