 BEGIN:VCALENDAR
VERSION:2.0
PRODID:-//eventon.com NONSGML v1.0//EN
CALSCALE:GREGORIAN
METHOD:PUBLISH
BEGIN:VEVENT
UID:69e8a732641d6
DTSTAMP:20260422T104714Z
DTSTART:20260516T180000Z
DTEND:20260516T215900Z
LOCATION:Kranhaus Schloßstraße 8\,  25336 Elmshorn
SUMMARY:Brothers & Others
DESCRIPTION:Bei den drei Ahlert-Brüdern hat das Musik machen schon immer e
 ine wichtige Rolle gespielt\,  und das in sehr unterschiedlichen Bereichen\
 ,  Projekten und Musikstilen. Nun haben sie sich mit der Sängerin Maike Us
 torf und dem Bassisten Thilo Plümer zusammen getan und die Band „Brother
 s + Others“ gegründet. Die Fünf beleben zeitlose[..]\nhttps://www.kultu
 rkombinatelmshorn.de/veranstaltungen/brothers-others-2026/
URL:https://www.kulturkombinatelmshorn.de/veranstaltungen/brothers-others-2026/
END:VEVENT
END:VCALENDAR