 BEGIN:VCALENDAR
VERSION:2.0
PRODID:-//eventon.com NONSGML v1.0//EN
CALSCALE:GREGORIAN
METHOD:PUBLISH
BEGIN:VEVENT
UID:69e8a6981c625
DTSTAMP:20260422T104440Z
DTSTART:20260704T180000Z
DTEND:20260704T215900Z
LOCATION:Kranhaus Schloßstraße 8\,  25336 Elmshorn
SUMMARY:Modern Blues Connection
DESCRIPTION:12 Takte\,  aufgeladen mit den Emotionen aus dem täglichen Leb
 en &#8211; das ist der Blues. B.B. King\,  Albert Collins\,  Freddy King od
 er T-Bone Walker\,  Jimmy Dawkins\,  SaRon Crenshaw &#8230;\,  sie alle sin
 d die Inspiration für die Band &#8222;This Kind of Blues ~ Modern Blues Co
 nnection&#8220;.. Heinz Flichtbeil (Bandleader/Gitarre)\,  Tobias Kargoll[.
 .]\nhttps://www.kulturkombinatelmshorn.de/veranstaltungen/modern-blues-conn
 ection-2026/
URL:https://www.kulturkombinatelmshorn.de/veranstaltungen/modern-blues-connection-2026/
END:VEVENT
END:VCALENDAR