 BEGIN:VCALENDAR
VERSION:2.0
PRODID:-//eventon.com NONSGML v1.0//EN
CALSCALE:GREGORIAN
METHOD:PUBLISH
BEGIN:VEVENT
UID:69e89098ad7a9
DTSTAMP:20260422T091048Z
DTSTART:20260320T173000Z
DTEND:20260320T200000Z
LOCATION:Industriemuseum Elmshorn Catharinenstraße 1\,  25335 Elmshorn
SUMMARY:Die Straße im Kopf  *AUSVERKAUFT*
DESCRIPTION:Freitag\,  20.03.2026 | Einlass 18:00 Uhr | Beginn 18:30 Uhr | 
 Industriemuseum Elmshorn Der Apollo Kultur e.V. lädt zur Benefiz-Lesung in
 s Industriemuseum Elmshorn ein: Autor und Aktivist Dominik Bloh liest aus s
 einem Buch „Die Straße im Kopf“ – und erzählt von seinem Weg von de
 r Straße in ein neues Leben.[..]\nhttps://www.kulturkombinatelmshorn.de/ve
 ranstaltungen/die-strasse-im-kopf-zusatztermin/
URL:https://www.kulturkombinatelmshorn.de/veranstaltungen/die-strasse-im-kopf-zusatztermin/
END:VEVENT
END:VCALENDAR