 BEGIN:VCALENDAR
VERSION:2.0
PRODID:-//eventon.com NONSGML v1.0//EN
CALSCALE:GREGORIAN
METHOD:PUBLISH
BEGIN:VEVENT
UID:69e8a5068ff5c
DTSTAMP:20260422T103758Z
DTSTART:20260418T163000Z
DTEND:20260418T215900Z
LOCATION:Kranhaus Schloßstraße 8\,  25336 Elmshorn
SUMMARY:Unfinished Business\,  Bittter & The Haermorrhoids
DESCRIPTION:Apollo? &#8222;Ach\,  die machen doch nur Punk.“ Falsch. Wir 
 machen auch Lesungen. Und Kultur. Und Diskurs. Und Förderanträge … aber
  am 18.04. machen wir PUNK. Und zwar nicht „Ach-wie-nostalgisch-Punk“\,
   sondern „Warum klebt hier alles?“-Punk. Apollo im Exil &amp; KickAss 
 Events präsentieren gleich drei Knaller: 🔥 UNFINISHED BUSINESS (Punkroc
 k) – weil[..]\nhttps://www.kulturkombinatelmshorn.de/veranstaltungen/apol
 lo-im-exil-x-kickassevents-live/
URL:https://www.kulturkombinatelmshorn.de/veranstaltungen/apollo-im-exil-x-kickassevents-live/
END:VEVENT
END:VCALENDAR