 BEGIN:VCALENDAR
VERSION:2.0
PRODID:-//eventon.com NONSGML v1.0//EN
CALSCALE:GREGORIAN
METHOD:PUBLISH
BEGIN:VEVENT
UID:69e9dff3922f0
DTSTAMP:20260423T090139Z
DTSTART:20260306T190000Z
DTEND:20260306T225900Z
LOCATION:Stadttheater Elmshorn Klostersande 30\,  25336 Elmshorn
SUMMARY:Dracula
DESCRIPTION:Warum scheint es Lady Lucy Westenra von Tag zu Tag schlechter z
 u gehen\,  seit der neue Nachbar\,  der charmante wie mysteriöse Graf Drac
 ula\,  das Anwesen neben dem Sanatorium ihres Verlobten Dr. Seward bezogen 
 hat? Und warum ist der junge englische Anwalt Jonathan Harker nicht mehr vo
 n seiner Reise in die[..]\nhttps://www.kulturkombinatelmshorn.de/veranstalt
 ungen/dracula/
URL:https://www.kulturkombinatelmshorn.de/veranstaltungen/dracula/
END:VEVENT
END:VCALENDAR