 BEGIN:VCALENDAR
VERSION:2.0
PRODID:-//eventon.com NONSGML v1.0//EN
CALSCALE:GREGORIAN
METHOD:PUBLISH
BEGIN:VEVENT
UID:69e8a698092f3
DTSTAMP:20260422T104440Z
DTSTART:20260308
DTEND:20260309
LOCATION:Industriemuseum Elmshorn Catharinenstraße 1\,  25335 Elmshorn
SUMMARY:Firmen aus Elmshorn
DESCRIPTION:Firmen und Geschäfte haben stets den Alltag der Elmshorner gep
 rägt\,  sei es durch Konsum\,  den Arbeitsalltag oder indem sie das Stadtb
 ild mitbestimmten. Wir möchten Ihnen einen Einblick in unseren Objektbesta
 nd zur reichhaltigen Elmshorner Firmengeschichte bieten. Folglich behandelt
  unsere nächste Sonderausstellung das Thema Elmshorner Firmen. Wir haben d
 afür eine Schausammlung eingerichtet\, [..]\nhttps://www.kulturkombinatelm
 shorn.de/veranstaltungen/firmen-aus-elmshorn/
URL:https://www.kulturkombinatelmshorn.de/veranstaltungen/firmen-aus-elmshorn/
END:VEVENT
END:VCALENDAR