 BEGIN:VCALENDAR
VERSION:2.0
PRODID:-//eventon.com NONSGML v1.0//EN
CALSCALE:GREGORIAN
METHOD:PUBLISH
BEGIN:VEVENT
UID:69eb311ff3c55
DTSTAMP:20260424T090015Z
DTSTART:20260308T160000Z
DTEND:20260308T225900Z
LOCATION:Industriemuseum Elmshorn Catharinenstraße 1\,  25335 Elmshorn
SUMMARY:30 Jahre Frauengeschichtswerkstatt
DESCRIPTION:30 Jahre sind eine lange Zeit\,  Grund genug ein Jubiläum zu f
 eiern und auf das Erreichte zurück zu blicken. Dazu lädt Sie die Frauenge
 schichtswerkstatt herzlich ein. Nach einer Begrüßung durch die Gründerin
 nen und Grußworten des Elmshorner Oberbürgermeisters\,  der Vorsitzenden 
 unseres Fördervereins und des Museumsleiters präsentiert die Frauengeschi
 chtswerkstatt ihre Arbeit der[..]\nhttps://www.kulturkombinatelmshorn.de/ve
 ranstaltungen/30-jahre-frauengeschichtswerkstatt/
URL:https://www.kulturkombinatelmshorn.de/veranstaltungen/30-jahre-frauengeschichtswerkstatt/
END:VEVENT
END:VCALENDAR