 BEGIN:VCALENDAR
VERSION:2.0
PRODID:-//eventon.com NONSGML v1.0//EN
CALSCALE:GREGORIAN
METHOD:PUBLISH
BEGIN:VEVENT
UID:69e6232ff3d50
DTSTAMP:20260420T125927Z
DTSTART:20260402T163000Z
DTEND:20260402T180000Z
LOCATION:Industriemuseum Elmshorn Catharinenstraße 1\,  25335 Elmshorn
SUMMARY:Strick-Café
DESCRIPTION:Wer zum Stricken ein warmes Plätzchen sucht\,  darf gerne im S
 trick-Club vorbeischauen. Dieser richtet sich an Strickinteressierte\,  die
  lieber in der Gruppe kreative Ideen für kleinere und größere Strick-Pro
 jekte angehen. Der Strick-Club ist auch für Strickanfänger*innen geeignet
 \,  Grundkenntnisse sind jedoch wünschenswert. Natürlich sind andere Hand
 arbeiten wie Häkeln oder Sticken ebenfalls[..]\nhttps://www.kulturkombinat
 elmshorn.de/veranstaltungen/strick-cafe-2/
URL:https://www.kulturkombinatelmshorn.de/veranstaltungen/strick-cafe-2/
END:VEVENT
END:VCALENDAR