 BEGIN:VCALENDAR
VERSION:2.0
PRODID:-//eventon.com NONSGML v1.0//EN
CALSCALE:GREGORIAN
METHOD:PUBLISH
BEGIN:VEVENT
UID:69e8a66174fcc
DTSTAMP:20260422T104345Z
DTSTART:20251217T150000Z
DTEND:20251217T163000Z
LOCATION:Stadtbücherei Elmshorn Königstraße 56\,  25335 Elmshorn
SUMMARY:Spieliothek-mobil
DESCRIPTION:Einmal pro Monat ist die Spieliothek-mobil in der Stadtbüchere
 i Elmshorn von 16:00 bis 17:30 Uhr zu Gast und verleiht kostenlos Spiele. M
 ehr Informationen zur Spieliothek-mobil erhalten Sie hier.\nhttps://www.kul
 turkombinatelmshorn.de/veranstaltungen/spieliothek-mobil-2/var/ri-1.l-L1
URL:https://www.kulturkombinatelmshorn.de/veranstaltungen/spieliothek-mobil-2/var/ri-1.l-L1
END:VEVENT
END:VCALENDAR