 BEGIN:VCALENDAR
VERSION:2.0
PRODID:-//eventon.com NONSGML v1.0//EN
CALSCALE:GREGORIAN
METHOD:PUBLISH
BEGIN:VEVENT
UID:69e89100ad5e4
DTSTAMP:20260422T091232Z
DTSTART:20260313T190000Z
DTEND:20260313T225900Z
LOCATION:Dittchenbühne Hermann-Sudermann-Allee 50\,  25335 Elmshorn
SUMMARY:König Ödipus
DESCRIPTION:nach Sophokles von Bodo Wartke\,  Sven Schütze\,  Carmen Kalis
 ch mit Musik von Bodo Wartke Bodo Wartke\,  der bekannte Klavierkabarettist
 \,  hat bereits im Jahr 2009 nach vielen Jahren intensiver Arbeit am Text f
 ür diesen antiken Stoff seine Version dieser klassischen Tragödie uraufge
 führt. Wie es sich für einen Kabarettisten gehört\,  bleibt der[..]\nhtt
 ps://www.kulturkombinatelmshorn.de/veranstaltungen/koenig-oedipus/
URL:https://www.kulturkombinatelmshorn.de/veranstaltungen/koenig-oedipus/
END:VEVENT
END:VCALENDAR