 BEGIN:VCALENDAR
VERSION:2.0
PRODID:-//eventon.com NONSGML v1.0//EN
CALSCALE:GREGORIAN
METHOD:PUBLISH
BEGIN:VEVENT
UID:69e890e8d0bee
DTSTAMP:20260422T091208Z
DTSTART:20260321T190000Z
DTEND:20260321T225900Z
LOCATION:Haus 13 Adolfstrasse 13 - 25335 Elmshorn
SUMMARY:Bad Sister LIVE
DESCRIPTION:Zum X-ten Mal gastiert die Elmshorner Band Bad Sister im HAUS 1
 3 – bislang immer erfolgreich vor ausverkauftem Haus! Dieses Jahr präsen
 tiert die Gruppe altbekannte Songs\,  aber auch brandneue\,  die erstmals z
 u Gehör gebracht werden. Daneben wird es neue\,  coole Coversongs geben. E
 inlass: 19:00 Uhr Tickets unter: https://www.haus13.de/events/bad-sister-r
 ock-at-its-best-aus-elmshorn-am-samstag-21-03-2026/\nhttps://www.kulturkomb
 inatelmshorn.de/veranstaltungen/bad-sister-live/
URL:https://www.kulturkombinatelmshorn.de/veranstaltungen/bad-sister-live/
END:VEVENT
END:VCALENDAR