 BEGIN:VCALENDAR
VERSION:2.0
PRODID:-//eventon.com NONSGML v1.0//EN
CALSCALE:GREGORIAN
METHOD:PUBLISH
BEGIN:VEVENT
UID:69e890f1a9452
DTSTAMP:20260422T091217Z
DTSTART:20260325T180000Z
DTEND:20260325T225900Z
LOCATION:Industriemuseum Elmshorn Catharinenstraße 1\,  25335 Elmshorn
SUMMARY:Einmal und nie wieder!
DESCRIPTION:Im Rahmenprogramm zur 30-Jahr-Feier der Frauengeschichtswerksta
 tt (FGW) präsentiert die FGW Filme. Der Start der Reihe ist am Mittwoch\, 
  25. März um 19.00 Uhr im Industriemuseum Elmshorn\,  Eintritt kostenfrei\
 ,  mit dem Film: »Einmal und nie wieder! mit und über Marianne Wilke« (1
 929–2023) Dokumentarfilm des VVN-Bda SH e.V. Anschließend Diskussion mit
  Ulrike[..]\nhttps://www.kulturkombinatelmshorn.de/veranstaltungen/einmal-u
 nd-nie-wieder-2/
URL:https://www.kulturkombinatelmshorn.de/veranstaltungen/einmal-und-nie-wieder-2/
END:VEVENT
END:VCALENDAR