 BEGIN:VCALENDAR
VERSION:2.0
PRODID:-//eventon.com NONSGML v1.0//EN
CALSCALE:GREGORIAN
METHOD:PUBLISH
BEGIN:VEVENT
UID:69e9fdf4cd497
DTSTAMP:20260423T110940Z
DTSTART:20260426T130000Z
DTEND:20260426T140000Z
LOCATION:Kultur im Roten Pavillon Agnes-Karll-Allee 2\,  25337 Elmshorn
SUMMARY:Charade
DESCRIPTION:Das Duo Charade bringt Jazz\,  Swing und Bossa Nova nach Elmsho
 rn. Sängerin Mascha Litterscheid und Gitarrist Fred Wulff verbinden Klassi
 ker von Ella Fitzgerald bis Frank Sinatra mit warmen Bossa-Nova-Klängen un
 d sorgen für entspannte musikalische Frühlingsstimmung im Roten Pavillon.
  Ein stilvoller Nachmittag zwischen Dinner Jazz\,  Swing und südamerikanis
 chem Flair. ￼\nhttps://www.kulturkombinatelmshorn.de/veranstaltungen/char
 ade/
URL:https://www.kulturkombinatelmshorn.de/veranstaltungen/charade/
END:VEVENT
END:VCALENDAR