 BEGIN:VCALENDAR
VERSION:2.0
PRODID:-//eventon.com NONSGML v1.0//EN
CALSCALE:GREGORIAN
METHOD:PUBLISH
BEGIN:VEVENT
UID:69e9f991bdf03
DTSTAMP:20260423T105057Z
DTSTART:20260531T130000Z
DTEND:20260531T143000Z
LOCATION:Kultur im Roten Pavillon Agnes-Karll-Allee 2\,  25337 Elmshorn
SUMMARY:Wechselbeat
DESCRIPTION:Wechselbeat verleiht bekannten Songs einen eigenen Charakter. S
 ängerin Janna Becker und Gitarrist Oliver Abraham spielen Popmusik\,  Cove
 r und eigene Songs – mal ruhig und unplugged\,  mal kraftvoll und direkt.
  Das Akustik-Duo bewegt sich musikalisch zwischen vielseitigen Einflüssen 
 und überrascht mit frischen Arrangements bekannter Stücke. ￼\nhttps://w
 ww.kulturkombinatelmshorn.de/veranstaltungen/wechselbeat/
URL:https://www.kulturkombinatelmshorn.de/veranstaltungen/wechselbeat/
END:VEVENT
END:VCALENDAR