 BEGIN:VCALENDAR
VERSION:2.0
PRODID:-//eventon.com NONSGML v1.0//EN
CALSCALE:GREGORIAN
METHOD:PUBLISH
BEGIN:VEVENT
UID:69e4c9be25b4f
DTSTAMP:20260419T122534Z
DTSTART:20260607T130000Z
DTEND:20260607T143000Z
LOCATION:Kultur im Roten Pavillon Agnes-Karll-Allee 2\,  25337 Elmshorn
SUMMARY:Elderland
DESCRIPTION:Elderland entführt mit zweistimmigem Gesang\,  Geige\,  Mandol
 ine und Gitarre in die Welt des Celtic und American Folk. Anna Bottlinger u
 nd Maximilian Meeder verbinden traditionelle Einflüsse mit Singer-Songwrit
 er-Elementen und eigenen Interpretationen. Mal zart und melancholisch\,  ma
 l mitreißend und lebendig – ein stimmungsvolles Open-Air-Konzert für al
 le\,  die handgemachte Folkmusik lieben.\nhttps://www.kulturkombinatelmshor
 n.de/veranstaltungen/elderland-2026/
URL:https://www.kulturkombinatelmshorn.de/veranstaltungen/elderland-2026/
END:VEVENT
END:VCALENDAR