 BEGIN:VCALENDAR
VERSION:2.0
PRODID:-//eventon.com NONSGML v1.0//EN
CALSCALE:GREGORIAN
METHOD:PUBLISH
BEGIN:VEVENT
UID:69ea02e235d1f
DTSTAMP:20260423T113042Z
DTSTART:20260719T130000Z
DTEND:20260719T143000Z
LOCATION:Kultur im Roten Pavillon Agnes-Karll-Allee 2\,  25337 Elmshorn
SUMMARY:Simon Kempston
DESCRIPTION:Mit Simon Kempston kommt ein vielfach geschätzter schottischer
  Singer-Songwriter und Fingerstyle-Gitarrist nach Elmshorn. Im Rahmen seine
 r Europa-Tour bringt er Blues\,  Folk und keltische Einflüsse auf die Büh
 ne und schafft dabei dichte\,  atmosphärische Klanglandschaften. Ein Konze
 rt für alle\,  die virtuoses Gitarrenspiel und starke Songs schätzen.\nht
 tps://www.kulturkombinatelmshorn.de/veranstaltungen/simon-kempston/
URL:https://www.kulturkombinatelmshorn.de/veranstaltungen/simon-kempston/
END:VEVENT
END:VCALENDAR