 BEGIN:VCALENDAR
VERSION:2.0
PRODID:-//eventon.com NONSGML v1.0//EN
CALSCALE:GREGORIAN
METHOD:PUBLISH
BEGIN:VEVENT
UID:69e9f9c31f1c6
DTSTAMP:20260423T105147Z
DTSTART:20260809T130000Z
DTEND:20260809T143000Z
LOCATION:Kultur im Roten Pavillon Agnes-Karll-Allee 2\,  25337 Elmshorn
SUMMARY:Ignaz Netzer
DESCRIPTION:Ignaz Netzer gehört zu den markanten Stimmen des deutschen Blu
 es. Seine Musik ist geprägt von Konzertreisen durch Europa und die amerika
 nischen Südstaaten sowie von einer tiefen Verwurzelung in Blues und Gospel
 . Beim Sommer-Open-Air am Roten Pavillon ist ein preisgekrönter Gitarrist 
 und authentischer Bluesmusiker zu erleben\,  der sein Publikum mit Ausdruck
 \, [..]\nhttps://www.kulturkombinatelmshorn.de/veranstaltungen/ignaz-netzer
 /
URL:https://www.kulturkombinatelmshorn.de/veranstaltungen/ignaz-netzer/
END:VEVENT
END:VCALENDAR