 BEGIN:VCALENDAR
VERSION:2.0
PRODID:-//eventon.com NONSGML v1.0//EN
CALSCALE:GREGORIAN
METHOD:PUBLISH
BEGIN:VEVENT
UID:69e9fd477e1b6
DTSTAMP:20260423T110647Z
DTSTART:20260913T130000Z
DTEND:20260913T143000Z
LOCATION:Kultur im Roten Pavillon Agnes-Karll-Allee 2\,  25337 Elmshorn
SUMMARY:Nordic Sunset
DESCRIPTION:Das Duo Nordic Sunset aus Schleswig-Holstein bringt vorwiegend 
 nordische Klänge in den Roten Pavillon. Mit harmonischem Gesang und einer 
 Vielzahl an Instrumenten entstehen musikalische Bilder zwischen Lappland\, 
  schwedischer Lagerfeuerromantik und norddeutscher Weite. Ergänzt wird das
  Programm durch Ausflüge in Pop\,  Klassik\,  Klezmer und andere ungewöhn
 liche Stilrichtungen. Ein abwechslungsreicher Konzertnachmittag zum[..]\nht
 tps://www.kulturkombinatelmshorn.de/veranstaltungen/nordic-sunset/
URL:https://www.kulturkombinatelmshorn.de/veranstaltungen/nordic-sunset/
END:VEVENT
END:VCALENDAR