 BEGIN:VCALENDAR
VERSION:2.0
PRODID:-//eventon.com NONSGML v1.0//EN
CALSCALE:GREGORIAN
METHOD:PUBLISH
BEGIN:VEVENT
UID:69e4cde919da6
DTSTAMP:20260419T124321Z
DTSTART:20260423T170000Z
DTEND:20260423T215900Z
LOCATION:
SUMMARY:Toulouse-Lautrec
DESCRIPTION:Henri de Toulouse-Lautrec – zum 125. Todestag: Eine biographi
 sche Erzählung von Suzanne Bohn Henri de Toulouse-Lautrec wird meist mit s
 einen berühmten Plakaten von Tänzerinnen des Moulin Rouge verbunden. Doch
  dies ist nur ein Aspekt seines vielfältigen Schaffens. Die talentierte Co
 nférencière Suzanne Bohn\,  die bereits im letzten Mai einen vielgelobten
  Vortrag[..]\nhttps://www.kulturkombinatelmshorn.de/veranstaltungen/toulous
 e-lautrec/
URL:https://www.kulturkombinatelmshorn.de/veranstaltungen/toulouse-lautrec/
END:VEVENT
END:VCALENDAR