 BEGIN:VCALENDAR
VERSION:2.0
PRODID:-//eventon.com NONSGML v1.0//EN
CALSCALE:GREGORIAN
METHOD:PUBLISH
BEGIN:VEVENT
UID:69e4cd53ae85e
DTSTAMP:20260419T124051Z
DTSTART:20260508T160000Z
DTEND:20260508T215900Z
LOCATION:Gelbe Villa (Ev.-Freikirchl. Gemeinde) Kaltenweide 83\,  25335 Elmshorn
SUMMARY:Gedenktag 8. Mai
DESCRIPTION: Anlässlich des 81. Jahrestages der Befreiung am 8. Mai 1945 
 lädt der Bürgervorsteher Andreas Hahn zu einer städtischen Gedenkveranst
 altung ein.  Unter dem Titel „160 Jahre Liedertafel Elmshorn – Gedenke
 n und Verantwortung“ arbeiten Mitwirkende der Liedertafel Elmshorn e.V. d
 ie eigene Geschichte des Chores während der NS-Zeit auf. Diese wird mit wi
 ssenschaftlich[..]\nhttps://www.kulturkombinatelmshorn.de/veranstaltungen/g
 edenktag-8-mai/
URL:https://www.kulturkombinatelmshorn.de/veranstaltungen/gedenktag-8-mai/
END:VEVENT
END:VCALENDAR