 BEGIN:VCALENDAR
VERSION:2.0
PRODID:-//eventon.com NONSGML v1.0//EN
CALSCALE:GREGORIAN
METHOD:PUBLISH
BEGIN:VEVENT
UID:69ea338d7d701
DTSTAMP:20260423T145821Z
DTSTART:20260529T160000Z
DTEND:20260529T215900Z
LOCATION:
SUMMARY:10. Elmshorner Musiknacht
DESCRIPTION:Am Freitag\,  29. Mai\,  lädt das Stadtmarketing zur 10. Elmsh
 orner Musiknacht ein.  Die Elmshorner Musiknacht\,  veranstaltet vom Stadt
 marketing Elmshorn\,  feiert am Freitag\,  29. Mai ihr 10-jähriges Jubilä
 um. Traditionell startet die Musiknacht um 18 Uhr in der St. Nikolai-Kirche
  auf dem Alten Markt. Mit seinem neuen Programm „HOT PIANO“ lädt das[.
 .]\nhttps://www.kulturkombinatelmshorn.de/veranstaltungen/elmshorner-musikn
 acht-2026/
URL:https://www.kulturkombinatelmshorn.de/veranstaltungen/elmshorner-musiknacht-2026/
END:VEVENT
END:VCALENDAR