 BEGIN:VCALENDAR
VERSION:2.0
PRODID:-//eventon.com NONSGML v1.0//EN
CALSCALE:GREGORIAN
METHOD:PUBLISH
BEGIN:VEVENT
UID:69ea34c5b6132
DTSTAMP:20260423T150333Z
DTSTART:20260503T100000Z
DTEND:20260503T150000Z
LOCATION:Elmshorn Elmshorn
SUMMARY:Shopping Sonntag
DESCRIPTION:Shopping Sonntag – Straßenkunst und Kulturfest in Elmshorn A
 m Sonntag\,  3. Mai 2026\,  lädt Elmshorn von 12 bis 17 Uhr zu einem beson
 deren Shopping Sonntag mit Straßenkunst\,  Live-Musik und vielfältigen Ku
 lturangeboten ein. In der Innenstadt erwartet die Besucher:innen ein bunter
  Mix aus Einkaufsvergnügen\,  Straßenmusik\,  Aktionen für Familien und 
 entspanntem Stadtbummel.[..]\nhttps://www.kulturkombinatelmshorn.de/veranst
 altungen/shopping-sonntag/
URL:https://www.kulturkombinatelmshorn.de/veranstaltungen/shopping-sonntag/
END:VEVENT
END:VCALENDAR